BEGIN:VCALENDAR
VERSION:2.0
PRODID:-//Southern Lanes Sports Center - ECPv4.6.14.1//NONSGML v1.0//EN
CALSCALE:GREGORIAN
METHOD:PUBLISH
X-WR-CALNAME:Southern Lanes Sports Center
X-ORIGINAL-URL:https://southernlanes.com
X-WR-CALDESC:Events for Southern Lanes Sports Center
BEGIN:VEVENT
DTSTART;VALUE=DATE:20180702
DTEND;VALUE=DATE:20180703
DTSTAMP:20260424T075517
CREATED:20180510T183318Z
LAST-MODIFIED:20180510T183318Z
UID:764-1530489600-1530575999@southernlanes.com
SUMMARY:Women's Quads Tournament
DESCRIPTION:
URL:https://southernlanes.com/calendar-event/womens-quads-tournament/
END:VEVENT
END:VCALENDAR