BEGIN:VCALENDAR
VERSION:2.0
PRODID:-//Southern Lanes Sports Center - ECPv4.6.14.1//NONSGML v1.0//EN
CALSCALE:GREGORIAN
METHOD:PUBLISH
X-WR-CALNAME:Southern Lanes Sports Center
X-ORIGINAL-URL:https://southernlanes.com
X-WR-CALDESC:Events for Southern Lanes Sports Center
BEGIN:VEVENT
DTSTART;TZID=UTC+0:20180604T193000
DTEND;TZID=UTC+0:20180604T193000
DTSTAMP:20260424T094003
CREATED:20180510T182628Z
LAST-MODIFIED:20180510T182628Z
UID:739-1528140600-1528140600@southernlanes.com
SUMMARY:Women's Quads
DESCRIPTION:Sets on the Beach vs. Bump Set Drink \n
URL:https://southernlanes.com/calendar-event/womens-quads-2/
END:VEVENT
BEGIN:VEVENT
DTSTART;TZID=UTC+0:20180604T193000
DTEND;TZID=UTC+0:20180604T193000
DTSTAMP:20260424T094003
CREATED:20180510T182700Z
LAST-MODIFIED:20180510T182700Z
UID:741-1528140600-1528140600@southernlanes.com
SUMMARY:Women's Quads
DESCRIPTION:Good Sets vs. Un-Predictaball \n
URL:https://southernlanes.com/calendar-event/womens-quads-3/
END:VEVENT
BEGIN:VEVENT
DTSTART;TZID=UTC+0:20180604T203000
DTEND;TZID=UTC+0:20180604T203000
DTSTAMP:20260424T094003
CREATED:20180510T182732Z
LAST-MODIFIED:20180510T182732Z
UID:743-1528144200-1528144200@southernlanes.com
SUMMARY:Women's Quads
DESCRIPTION:American Honeys vs. Cotton Mouth Kidneys \n
URL:https://southernlanes.com/calendar-event/womens-quads-4/
END:VEVENT
END:VCALENDAR