BEGIN:VCALENDAR
VERSION:2.0
PRODID:-//Southern Lanes Sports Center - ECPv4.6.14.1//NONSGML v1.0//EN
CALSCALE:GREGORIAN
METHOD:PUBLISH
X-WR-CALNAME:Southern Lanes Sports Center
X-ORIGINAL-URL:https://southernlanes.com
X-WR-CALDESC:Events for Southern Lanes Sports Center
BEGIN:VEVENT
DTSTART;VALUE=DATE:20180530
DTEND;VALUE=DATE:20180531
DTSTAMP:20260424T093640
CREATED:20180510T181746Z
LAST-MODIFIED:20180510T181746Z
UID:718-1527638400-1527724799@southernlanes.com
SUMMARY:B1 & BB Tournament
DESCRIPTION:
URL:https://southernlanes.com/calendar-event/b1-bb-tournament/
END:VEVENT
END:VCALENDAR