BEGIN:VCALENDAR
VERSION:2.0
PRODID:-//Southern Lanes Sports Center - ECPv4.6.14.1//NONSGML v1.0//EN
CALSCALE:GREGORIAN
METHOD:PUBLISH
X-WR-CALNAME:Southern Lanes Sports Center
X-ORIGINAL-URL:https://southernlanes.com
X-WR-CALDESC:Events for Southern Lanes Sports Center
BEGIN:VEVENT
DTSTART;TZID=UTC+0:20180523T183000
DTEND;TZID=UTC+0:20180523T183000
DTSTAMP:20260424T110647
CREATED:20180510T181548Z
LAST-MODIFIED:20180510T181548Z
UID:712-1527100200-1527100200@southernlanes.com
SUMMARY:Coed Quads B1
DESCRIPTION:Dat Ace Doe vs. Bad Aces \n
URL:https://southernlanes.com/calendar-event/coed-quads-b1-4/
END:VEVENT
BEGIN:VEVENT
DTSTART;TZID=UTC+0:20180523T183000
DTEND;TZID=UTC+0:20180523T183000
DTSTAMP:20260424T110647
CREATED:20180510T182254Z
LAST-MODIFIED:20180510T182254Z
UID:730-1527100200-1527100200@southernlanes.com
SUMMARY:Coed Quads B2
DESCRIPTION:That’s What She Set! vs. The Action Pack \n
URL:https://southernlanes.com/calendar-event/coed-quads-b2-5/
END:VEVENT
BEGIN:VEVENT
DTSTART;TZID=UTC+0:20180523T193000
DTEND;TZID=UTC+0:20180523T193000
DTSTAMP:20260424T110647
CREATED:20180510T182328Z
LAST-MODIFIED:20180510T182328Z
UID:732-1527103800-1527103800@southernlanes.com
SUMMARY:Coed Quads B2
DESCRIPTION:Dig It vs. Donald Bump \n
URL:https://southernlanes.com/calendar-event/coed-quads-b2-6/
END:VEVENT
BEGIN:VEVENT
DTSTART;TZID=UTC+0:20180523T193000
DTEND;TZID=UTC+0:20180523T193000
DTSTAMP:20260424T110647
CREATED:20180510T183927Z
LAST-MODIFIED:20180510T183927Z
UID:776-1527103800-1527103800@southernlanes.com
SUMMARY:Coed Quads BB
DESCRIPTION:We Dig 4 Play vs. Unprotected Butt Sets \n
URL:https://southernlanes.com/calendar-event/coed-quads-bb-4/
END:VEVENT
BEGIN:VEVENT
DTSTART;TZID=UTC+0:20180523T203000
DTEND;TZID=UTC+0:20180523T203000
DTSTAMP:20260424T110647
CREATED:20180510T181629Z
LAST-MODIFIED:20180510T181629Z
UID:714-1527107400-1527107400@southernlanes.com
SUMMARY:Coed Quads B1
DESCRIPTION:KAB vs. Dragon & The Rejects \n
URL:https://southernlanes.com/calendar-event/coed-quads-b1-5/
END:VEVENT
BEGIN:VEVENT
DTSTART;TZID=UTC+0:20180523T203000
DTEND;TZID=UTC+0:20180523T203000
DTSTAMP:20260424T110647
CREATED:20180510T183958Z
LAST-MODIFIED:20180510T183958Z
UID:778-1527107400-1527107400@southernlanes.com
SUMMARY:Coed Quads BB
DESCRIPTION:Edward Volleyball-hands vs. Setting Ducks \n
URL:https://southernlanes.com/calendar-event/coed-quads-bb-5/
END:VEVENT
BEGIN:VEVENT
DTSTART;TZID=UTC+0:20180523T213000
DTEND;TZID=UTC+0:20180523T213000
DTSTAMP:20260424T110647
CREATED:20180510T181658Z
LAST-MODIFIED:20180510T181658Z
UID:716-1527111000-1527111000@southernlanes.com
SUMMARY:Coed Quads B1
DESCRIPTION:Life’s a Beach vs. All 4 Fun \n
URL:https://southernlanes.com/calendar-event/coed-quads-b1-6/
END:VEVENT
BEGIN:VEVENT
DTSTART;TZID=UTC+0:20180523T213000
DTEND;TZID=UTC+0:20180523T213000
DTSTAMP:20260424T110647
CREATED:20180510T182400Z
LAST-MODIFIED:20180510T182400Z
UID:734-1527111000-1527111000@southernlanes.com
SUMMARY:Coed Quads B2
DESCRIPTION:Dilly Dilly vs. Dirty Aceholes \n
URL:https://southernlanes.com/calendar-event/coed-quads-b2-7/
END:VEVENT
BEGIN:VEVENT
DTSTART;TZID=UTC+0:20180523T223000
DTEND;TZID=UTC+0:20180523T223000
DTSTAMP:20260424T110647
CREATED:20180510T182432Z
LAST-MODIFIED:20180510T182432Z
UID:736-1527114600-1527114600@southernlanes.com
SUMMARY:Coed Quads B2
DESCRIPTION:Casual Sets vs. Fubar \n
URL:https://southernlanes.com/calendar-event/coed-quads-b2-8/
END:VEVENT
BEGIN:VEVENT
DTSTART;TZID=UTC+0:20180523T223000
DTEND;TZID=UTC+0:20180523T223000
DTSTAMP:20260424T110647
CREATED:20180510T184037Z
LAST-MODIFIED:20180510T184037Z
UID:780-1527114600-1527114600@southernlanes.com
SUMMARY:Coed Quads BB
DESCRIPTION:Lost Cause vs. Sloppy Sets \n
URL:https://southernlanes.com/calendar-event/coed-quads-bb-6/
END:VEVENT
END:VCALENDAR