BEGIN:VCALENDAR
VERSION:2.0
PRODID:-//Southern Lanes Sports Center - ECPv4.6.14.1//NONSGML v1.0//EN
CALSCALE:GREGORIAN
METHOD:PUBLISH
X-WR-CALNAME:Southern Lanes Sports Center
X-ORIGINAL-URL:https://southernlanes.com
X-WR-CALDESC:Events for Southern Lanes Sports Center
BEGIN:VEVENT
DTSTART;TZID=UTC+0:20180514T193000
DTEND;TZID=UTC+0:20180514T193000
DTSTAMP:20260421T142836
CREATED:20180510T180708Z
LAST-MODIFIED:20180510T180708Z
UID:694-1526326200-1526326200@southernlanes.com
SUMMARY:Women's Quads
DESCRIPTION:Cotton Mouth Kidneys vs. Good Sets \n
URL:https://southernlanes.com/calendar-event/womens-quads/
END:VEVENT
END:VCALENDAR