BEGIN:VCALENDAR
VERSION:2.0
PRODID:-//Southern Lanes Sports Center - ECPv4.6.14.1//NONSGML v1.0//EN
CALSCALE:GREGORIAN
METHOD:PUBLISH
X-WR-CALNAME:Southern Lanes Sports Center
X-ORIGINAL-URL:https://southernlanes.com
X-WR-CALDESC:Events for Southern Lanes Sports Center
BEGIN:VEVENT
DTSTART;TZID=UTC+0:20180514T203000
DTEND;TZID=UTC+0:20180514T203000
DTSTAMP:20260421T131118
CREATED:20180510T175818Z
LAST-MODIFIED:20180510T180503Z
UID:679-1526329800-1526329800@southernlanes.com
SUMMARY:Women's Quads
DESCRIPTION:Sets on the Beach vs. American Honeys \n
URL:https://southernlanes.com/calendar-event/sets-on-the-beach-vs-american-honeys/
END:VEVENT
END:VCALENDAR