BEGIN:VCALENDAR
VERSION:2.0
PRODID:-//Southern Lanes Sports Center - ECPv4.6.14.1//NONSGML v1.0//EN
CALSCALE:GREGORIAN
METHOD:PUBLISH
X-WR-CALNAME:Southern Lanes Sports Center
X-ORIGINAL-URL:https://southernlanes.com
X-WR-CALDESC:Events for Southern Lanes Sports Center
BEGIN:VEVENT
DTSTART;TZID=UTC+0:20180516T183000
DTEND;TZID=UTC+0:20180516T183000
DTSTAMP:20260421T115208
CREATED:20180510T181307Z
LAST-MODIFIED:20180510T181307Z
UID:705-1526495400-1526495400@southernlanes.com
SUMMARY:Coed Quads B1
DESCRIPTION:Dragon & The Rejects vs. Bad Aces \n
URL:https://southernlanes.com/calendar-event/coed-quads-b1/
END:VEVENT
END:VCALENDAR